BEGIN:VCALENDAR
VERSION:2.0
PRODID:-//善意あるETとのファーストコンタクトを求める人々のための地域集会 - ECPv6.15.15//NONSGML v1.0//EN
CALSCALE:GREGORIAN
METHOD:PUBLISH
X-ORIGINAL-URL:https://xn--bck9eu78i.com
X-WR-CALDESC:善意あるETとのファーストコンタクトを求める人々のための地域集会 のイベント
REFRESH-INTERVAL;VALUE=DURATION:PT1H
X-Robots-Tag:noindex
X-PUBLISHED-TTL:PT1H
BEGIN:VTIMEZONE
TZID:Asia/Tokyo
BEGIN:STANDARD
TZOFFSETFROM:+0900
TZOFFSETTO:+0900
TZNAME:JST
DTSTART:20240101T000000
END:STANDARD
END:VTIMEZONE
BEGIN:VEVENT
DTSTART;TZID=Asia/Tokyo:20251025T130000
DTEND;TZID=Asia/Tokyo:20251025T210000
DTSTAMP:20260419T233737
CREATED:20251005T033006Z
LAST-MODIFIED:20251006T033619Z
UID:296-1761397200-1761426000@xn--bck9eu78i.com
SUMMARY:10月　善ファ会イベント
DESCRIPTION:🍁10月の善ファ会イベントのお知らせ🌈 \n今回はみんなで【高鍋城灯篭まつり】に参加します！ \n舞鶴公園や城堀公園をはじめ、高鍋町の各所に設置された石灯籠、紙灯籠、竹灯籠あわせて1万基に灯がともされ、あたりが幻想的な雰囲気に包まれます。物産展、野点なども行われ、たくさんの人で賑わうそうです。 \n\n📅日時：10月25日\n⏰集合時間：13：00\n🧭集合場所：舞鶴公園　〒884-0006 宮崎県児湯郡高鍋町上江１３４５\n\n楽しさとつながりを大切に、みんなで秋を楽しみましょう！ \n  \n  \n  \n\n\n  \n\n\n\nお名前（必須）\n\n\n \nメールアドレス（初参加の方は連絡のため、メールまたは電話番号のどちらかをご記入ください）\n\n\n \n電話番号（初参加の方は連絡のため、メールまたは電話番号のどちらかをご記入ください）\n\n\n \n出席欠席\n \n質問・メッセージ（任意）\n\n\n \n\n Δ
URL:https://xn--bck9eu78i.com/event/10%e6%9c%88%e3%80%80%e5%96%84%e3%83%95%e3%82%a1%e4%bc%9a%e3%82%a4%e3%83%99%e3%83%b3%e3%83%88/
LOCATION:舞鶴公園周辺\, 宮崎県\, 宮崎市高鍋町大字上江1345\, 宮崎県\, 8840006\, Japan
END:VEVENT
BEGIN:VEVENT
DTSTART;TZID=Asia/Tokyo:20250928T093000
DTEND;TZID=Asia/Tokyo:20250928T150000
DTSTAMP:20260419T233737
CREATED:20250913T020008Z
LAST-MODIFIED:20250914T094555Z
UID:247-1759051800-1759071600@xn--bck9eu78i.com
SUMMARY:9月　善ファ会イベント
DESCRIPTION:🍁 9月の善ファ会イベントのお知らせ 🍁\n\n今回は 「すき栗まつり」 にみんなで参加します！ \n秋の味覚・栗をテーマにしたお祭りで、地元のグルメや特産品、楽しい催し物も盛りだくさんです。自然の恵みを味わいながら、仲間との交流を深めましょう。 \n📅 日時：9月27日（土） \n⏰集合時間：午前9時30分 \n📍 場所：すきむらんど(小林市須木下田356-1) \n楽しさとつながりを大切に、みんなで秋を楽しみましょう！ \n\n\n  \n\n\n\nお名前（必須）\n\n\n \nメールアドレス（初参加の方は連絡のため、メールまたは電話番号のどちらかをご記入ください）\n\n\n \n電話番号（初参加の方は連絡のため、メールまたは電話番号のどちらかをご記入ください）\n\n\n \n出席欠席\n \n質問・メッセージ（任意）\n\n\n \n\n Δ
URL:https://xn--bck9eu78i.com/event/9%e6%9c%88%e3%80%80%e5%96%84%e3%83%95%e3%82%a1%e4%bc%9a%e3%82%a4%e3%83%99%e3%83%b3%e3%83%88/
LOCATION:すきむらんど\, 宮崎県小林市須木下田356-1
END:VEVENT
END:VCALENDAR